{
 "currentVersion": 10.91,
 "serviceDescription": "Service Areas Imagery 2010",
 "name": "RMWB-Imagery/Service_Areas_2010",
 "description": "Service Areas Imagery 2010",
 "extent": {
  "xmin": -37370,
  "ymin": 6261230,
  "xmax": -270,
  "ymax": 6299240,
  "spatialReference": {
   "wkid": 102186,
   "latestWkid": 3775
  }
 },
 "initialExtent": {
  "xmin": -37370,
  "ymin": 6261230,
  "xmax": -270,
  "ymax": 6299240,
  "spatialReference": {
   "wkid": 102186,
   "latestWkid": 3775
  }
 },
 "fullExtent": {
  "xmin": -37370,
  "ymin": 6261230,
  "xmax": -270,
  "ymax": 6299240,
  "spatialReference": {
   "wkid": 102186,
   "latestWkid": 3775
  }
 },
 "hasMultidimensions": false,
 "pixelSizeX": 0.25,
 "pixelSizeY": 0.25,
 "datasetFormat": "MrSID",
 "uncompressedSize": 22562736000,
 "blockWidth": 1024,
 "blockHeight": 128,
 "compressionType": "Wavelet (MG2)",
 "bandNames": [
  "Band_1"
 ],
 "allowCopy": true,
 "allowAnalysis": true,
 "bandCount": 1,
 "pixelType": "U8",
 "minPixelSize": 0,
 "maxPixelSize": 0,
 "copyrightText": "",
 "serviceDataType": "esriImageServiceDataTypeGeneric",
 "serviceSourceType": "esriImageServiceSourceTypeDataset",
 "minValues": [
  38
 ],
 "maxValues": [
  255
 ],
 "meanValues": [
  114.89275513758
 ],
 "stdvValues": [
  54.414649228052
 ],
 "objectIdField": "",
 "fields": [],
 "capabilities": "Image,Metadata,Mensuration",
 "defaultMosaicMethod": "Center",
 "allowedMosaicMethods": "",
 "sortField": "",
 "sortValue": null,
 "sortAscending": true,
 "mosaicOperator": "First",
 "defaultCompressionQuality": 75,
 "defaultResamplingMethod": "Bicubic",
 "maxImageHeight": 4100,
 "maxImageWidth": 15000,
 "allowRasterFunction": true,
 "rasterFunctionInfos": [
  {
   "name": "None",
   "description": "",
   "help": ""
  }
 ],
 "rasterTypeInfos": [
  {
   "name": "Raster Dataset",
   "description": "Supports all ArcGIS Raster Datasets",
   "help": ""
  }
 ],
 "mensurationCapabilities": "Basic",
 "hasHistograms": true,
 "hasColormap": false,
 "hasRasterAttributeTable": false,
 "minScale": 0,
 "maxScale": 0,
 "exportTilesAllowed": false,
 "supportsStatistics": false,
 "supportsAdvancedQueries": false,
 "editFieldsInfo": null,
 "ownershipBasedAccessControlForRasters": null,
 "allowComputeTiePoints": false,
 "useStandardizedQueries": true,
 "advancedQueryCapabilities": {
  "useStandardizedQueries": true,
  "supportsStatistics": false,
  "supportsOrderBy": false,
  "supportsDistinct": false,
  "supportsPagination": false
 },
 "spatialReference": {
  "wkid": 102186,
  "latestWkid": 3775
 }
}
