{
 "currentVersion": 10.91,
 "serviceDescription": "Cached_Imagery_Service/Service_Areas_2022c",
 "name": "Cached_Imagery_Service/Service_Areas_2022c",
 "description": "",
 "extent": {
  "xmin": 459126,
  "ymin": 6162765,
  "xmax": 517626,
  "ymax": 6516465,
  "spatialReference": {
   "wkid": 26912,
   "latestWkid": 26912
  }
 },
 "initialExtent": {
  "xmin": 459126,
  "ymin": 6162765,
  "xmax": 517626,
  "ymax": 6516465,
  "spatialReference": {
   "wkid": 26912,
   "latestWkid": 26912
  }
 },
 "fullExtent": {
  "xmin": 459126,
  "ymin": 6162765,
  "xmax": 517626,
  "ymax": 6516465,
  "spatialReference": {
   "wkid": 26912,
   "latestWkid": 26912
  }
 },
 "hasMultidimensions": false,
 "pixelSizeX": 0.075,
 "pixelSizeY": 0.075,
 "datasetFormat": "AMD",
 "uncompressedSize": 14713920000000,
 "blockWidth": 2048,
 "blockHeight": 256,
 "compressionType": "None",
 "bandNames": [
  "Band_1",
  "Band_2",
  "Band_3",
  "Band_4"
 ],
 "allowCopy": true,
 "allowAnalysis": true,
 "bandCount": 4,
 "pixelType": "U8",
 "minPixelSize": 0,
 "maxPixelSize": 0,
 "copyrightText": "",
 "serviceDataType": "esriImageServiceDataTypeProcessed",
 "serviceSourceType": "esriImageServiceSourceTypeMosaicDataset",
 "minValues": [
  0.005928853754940677,
  0.051724137931034475,
  0.12135922330097082,
  0
 ],
 "maxValues": [
  254.99407114624503,
  254.94827586206895,
  254.878640776699,
  255
 ],
 "meanValues": [
  135.6463120519863,
  137.63417560963498,
  115.20434739985795,
  254.97259285971865
 ],
 "stdvValues": [
  33.33986119944706,
  30.217832981212926,
  32.4124771449518,
  0.19174622604245814
 ],
 "objectIdField": "OBJECTID",
 "fields": [
  {
   "name": "OBJECTID",
   "type": "esriFieldTypeOID",
   "alias": "OBJECTID",
   "domain": null
  },
  {
   "name": "Shape",
   "type": "esriFieldTypeGeometry",
   "alias": "Shape",
   "domain": null
  },
  {
   "name": "Name",
   "type": "esriFieldTypeString",
   "alias": "Name",
   "domain": null,
   "length": 200
  },
  {
   "name": "MinPS",
   "type": "esriFieldTypeDouble",
   "alias": "MinPS",
   "domain": null
  },
  {
   "name": "MaxPS",
   "type": "esriFieldTypeDouble",
   "alias": "MaxPS",
   "domain": null
  },
  {
   "name": "LowPS",
   "type": "esriFieldTypeDouble",
   "alias": "LowPS",
   "domain": null
  },
  {
   "name": "HighPS",
   "type": "esriFieldTypeDouble",
   "alias": "HighPS",
   "domain": null
  },
  {
   "name": "Category",
   "type": "esriFieldTypeInteger",
   "alias": "Category",
   "domain": {
    "type": "codedValue",
    "name": "MosaicCatalogItemCategoryDomain",
    "description": "Catalog item categories.",
    "codedValues": [
     {
      "name": "Unknown",
      "code": 0
     },
     {
      "name": "Primary",
      "code": 1
     },
     {
      "name": "Overview",
      "code": 2
     },
     {
      "name": "Unprocessed Overview",
      "code": 3
     },
     {
      "name": "Partial Overview",
      "code": 4
     },
     {
      "name": "Inactive",
      "code": 5
     },
     {
      "name": "Uploaded",
      "code": 253
     },
     {
      "name": "Incomplete",
      "code": 254
     },
     {
      "name": "Custom",
      "code": 255
     }
    ],
    "mergePolicy": "esriMPTDefaultValue",
    "splitPolicy": "esriSPTDefaultValue"
   }
  },
  {
   "name": "Tag",
   "type": "esriFieldTypeString",
   "alias": "Tag",
   "domain": null,
   "length": 100
  },
  {
   "name": "GroupName",
   "type": "esriFieldTypeString",
   "alias": "GroupName",
   "domain": null,
   "length": 100
  },
  {
   "name": "ProductName",
   "type": "esriFieldTypeString",
   "alias": "ProductName",
   "domain": null,
   "length": 100
  },
  {
   "name": "CenterX",
   "type": "esriFieldTypeDouble",
   "alias": "CenterX",
   "domain": null
  },
  {
   "name": "CenterY",
   "type": "esriFieldTypeDouble",
   "alias": "CenterY",
   "domain": null
  },
  {
   "name": "ZOrder",
   "type": "esriFieldTypeInteger",
   "alias": "ZOrder",
   "domain": null
  },
  {
   "name": "Shape_Length",
   "type": "esriFieldTypeDouble",
   "alias": "Shape_Length",
   "domain": null
  },
  {
   "name": "Shape_Area",
   "type": "esriFieldTypeDouble",
   "alias": "Shape_Area",
   "domain": null
  }
 ],
 "capabilities": "Catalog,Image,Metadata",
 "defaultMosaicMethod": "Northwest",
 "allowedMosaicMethods": "NorthWest,Center,LockRaster,ByAttribute,Nadir,None",
 "sortField": "",
 "sortValue": null,
 "sortAscending": true,
 "mosaicOperator": "First",
 "maxDownloadSizeLimit": 2048,
 "defaultCompressionQuality": 75,
 "defaultResamplingMethod": "Bicubic",
 "maxImageHeight": 4100,
 "maxImageWidth": 15000,
 "maxRecordCount": 1000,
 "maxDownloadImageCount": 20,
 "maxMosaicImageCount": 42,
 "singleFusedMapCache": true,
 "tileInfo": {
  "rows": 256,
  "cols": 256,
  "dpi": 96,
  "format": "MIXED",
  "compressionQuality": 75,
  "origin": {
   "x": -5120900,
   "y": 9998100
  },
  "spatialReference": {
   "wkid": 26912,
   "latestWkid": 26912
  },
  "lods": [
   {
    "level": 0,
    "resolution": 27.093387520108376,
    "scale": 102400
   },
   {
    "level": 1,
    "resolution": 13.546693760054188,
    "scale": 51200
   },
   {
    "level": 2,
    "resolution": 6.773346880027094,
    "scale": 25600
   },
   {
    "level": 3,
    "resolution": 3.386673440013547,
    "scale": 12800
   },
   {
    "level": 4,
    "resolution": 1.6933367200067735,
    "scale": 6400
   },
   {
    "level": 5,
    "resolution": 0.8466683600033867,
    "scale": 3200
   },
   {
    "level": 6,
    "resolution": 0.42333418000169337,
    "scale": 1600
   },
   {
    "level": 7,
    "resolution": 0.21166709000084669,
    "scale": 800
   },
   {
    "level": 8,
    "resolution": 0.10583354500042334,
    "scale": 400
   },
   {
    "level": 9,
    "resolution": 0.05291677250021167,
    "scale": 200
   }
  ]
 },
 "storageInfo": {
  "storageFormat": "esriMapCacheStorageModeCompactV2",
  "packetSize": 128
 },
 "cacheType": "Map",
 "allowRasterFunction": true,
 "rasterFunctionInfos": [
  {
   "name": "None",
   "description": "",
   "help": ""
  }
 ],
 "rasterTypeInfos": [
  {
   "name": "Raster Dataset",
   "description": "Supports all ArcGIS Raster Datasets",
   "help": ""
  }
 ],
 "mensurationCapabilities": "None",
 "hasHistograms": true,
 "hasColormap": false,
 "hasRasterAttributeTable": false,
 "minScale": 0,
 "maxScale": 0,
 "minLOD": 0,
 "maxLOD": 9,
 "exportTilesAllowed": false,
 "supportsStatistics": true,
 "supportsAdvancedQueries": true,
 "editFieldsInfo": null,
 "ownershipBasedAccessControlForRasters": null,
 "allowComputeTiePoints": false,
 "useStandardizedQueries": true,
 "advancedQueryCapabilities": {
  "useStandardizedQueries": true,
  "supportsStatistics": true,
  "supportsOrderBy": true,
  "supportsDistinct": true,
  "supportsPagination": true
 },
 "spatialReference": {
  "wkid": 26912,
  "latestWkid": 26912
 }
}
